BEGIN:VCALENDAR
VERSION:2.0
PRODID:-//Bauclub - ECPv6.15.11//NONSGML v1.0//EN
CALSCALE:GREGORIAN
METHOD:PUBLISH
X-ORIGINAL-URL:https://www.bauclub.it
X-WR-CALDESC:Eventi per Bauclub
REFRESH-INTERVAL;VALUE=DURATION:PT1H
X-Robots-Tag:noindex
X-PUBLISHED-TTL:PT1H
BEGIN:VTIMEZONE
TZID:Europe/Helsinki
BEGIN:DAYLIGHT
TZOFFSETFROM:+0200
TZOFFSETTO:+0300
TZNAME:EEST
DTSTART:20220327T010000
END:DAYLIGHT
BEGIN:STANDARD
TZOFFSETFROM:+0300
TZOFFSETTO:+0200
TZNAME:EET
DTSTART:20221030T010000
END:STANDARD
BEGIN:DAYLIGHT
TZOFFSETFROM:+0200
TZOFFSETTO:+0300
TZNAME:EEST
DTSTART:20230326T010000
END:DAYLIGHT
BEGIN:STANDARD
TZOFFSETFROM:+0300
TZOFFSETTO:+0200
TZNAME:EET
DTSTART:20231029T010000
END:STANDARD
BEGIN:DAYLIGHT
TZOFFSETFROM:+0200
TZOFFSETTO:+0300
TZNAME:EEST
DTSTART:20240331T010000
END:DAYLIGHT
BEGIN:STANDARD
TZOFFSETFROM:+0300
TZOFFSETTO:+0200
TZNAME:EET
DTSTART:20241027T010000
END:STANDARD
END:VTIMEZONE
BEGIN:VEVENT
DTSTART;TZID=Europe/Helsinki:20231112T093000
DTEND;TZID=Europe/Helsinki:20231112T170000
DTSTAMP:20260423T153016
CREATED:20230826T145858Z
LAST-MODIFIED:20231023T233841Z
UID:3767-1699781400-1699808400@www.bauclub.it
SUMMARY:CANI ATTIVI\, CANI FELICI
DESCRIPTION:Come migliorare il benessere psicofisico del cane di città!\nUna giornata dedicata al benessere animale tra teoria e pratica. \nTeoria: 9\,30-12\,30\nPratica: 14\,00-17\,00\nCosto di partecipazione 40€ per cane\n(+10€ tessera associativa)
URL:https://www.bauclub.it/evento/cani-attivi-cani-felici/
LOCATION:Bauclub\, Via G.B.Piranesi\, 35\, Milano\, Mi\, 20137\, Italia
CATEGORIES:Evento
ATTACH;FMTTYPE=image/jpeg:https://www.bauclub.it/wp-content/uploads/2023/08/bauclub-asilo-cani-evento-cani-attivi-crosstraining-milano.jpg
ORGANIZER;CN="Bauclub":MAILTO:info@bauclub.it
END:VEVENT
BEGIN:VEVENT
DTSTART;TZID=Europe/Helsinki:20231120T203000
DTEND;TZID=Europe/Helsinki:20231120T203000
DTSTAMP:20260423T153016
CREATED:20230826T150610Z
LAST-MODIFIED:20230912T095459Z
UID:3771-1700512200-1700512200@www.bauclub.it
SUMMARY:MITI e CURIOSITÀ sulle Razze Antiche e Moderne
DESCRIPTION:Storia ed evoluzione delle razze più conosciute\n(10€ tessera associativa)
URL:https://www.bauclub.it/evento/miti-e-curiosita-sulle-razze-antiche-e-moderne/
LOCATION:Online
CATEGORIES:Webinar
ORGANIZER;CN="Bauclub":MAILTO:info@bauclub.it
END:VEVENT
BEGIN:VEVENT
DTSTART;TZID=Europe/Helsinki:20231129T203000
DTEND;TZID=Europe/Helsinki:20231129T203000
DTSTAMP:20260423T153016
CREATED:20230826T151048Z
LAST-MODIFIED:20230912T095707Z
UID:3773-1701289800-1701289800@www.bauclub.it
SUMMARY:BOTTI: che paura!
DESCRIPTION:Come gestire il cane durante le feste.\n(10€ tessera associativa)
URL:https://www.bauclub.it/evento/botti-che-paura/
LOCATION:Online
CATEGORIES:Webinar
ORGANIZER;CN="Bauclub":MAILTO:info@bauclub.it
END:VEVENT
END:VCALENDAR